BEGIN:VCALENDAR
VERSION:2.0
PRODID:-//Emmanuel UCC - ECPv6.6.4.2//NONSGML v1.0//EN
CALSCALE:GREGORIAN
METHOD:PUBLISH
X-WR-CALNAME:Emmanuel UCC
X-ORIGINAL-URL:https://seeyouonsunday.org
X-WR-CALDESC:Events for Emmanuel UCC
REFRESH-INTERVAL;VALUE=DURATION:PT1H
X-Robots-Tag:noindex
X-PUBLISHED-TTL:PT1H
BEGIN:VTIMEZONE
TZID:America/Chicago
BEGIN:DAYLIGHT
TZOFFSETFROM:-0600
TZOFFSETTO:-0500
TZNAME:CDT
DTSTART:20200308T080000
END:DAYLIGHT
BEGIN:STANDARD
TZOFFSETFROM:-0500
TZOFFSETTO:-0600
TZNAME:CST
DTSTART:20201101T070000
END:STANDARD
END:VTIMEZONE
BEGIN:VEVENT
DTSTART;TZID=America/Chicago:20200901T100000
DTEND;TZID=America/Chicago:20200901T110000
DTSTAMP:20260421T033209
CREATED:20200824T145123Z
LAST-MODIFIED:20200824T145123Z
UID:1508-1598954400-1598958000@seeyouonsunday.org
SUMMARY:Bible Study on the patio
DESCRIPTION:
URL:https://seeyouonsunday.org/event/bible-study-on-the-patio/
END:VEVENT
BEGIN:VEVENT
DTSTART;TZID=America/Chicago:20200902T190000
DTEND;TZID=America/Chicago:20200902T203000
DTSTAMP:20260421T033209
CREATED:20200825T164542Z
LAST-MODIFIED:20200825T164542Z
UID:1528-1599073200-1599078600@seeyouonsunday.org
SUMMARY:Zoom Book Study
DESCRIPTION:
URL:https://seeyouonsunday.org/event/zoom-book-study/
END:VEVENT
BEGIN:VEVENT
DTSTART;TZID=America/Chicago:20200906T093000
DTEND;TZID=America/Chicago:20200906T103000
DTSTAMP:20260421T033209
CREATED:20200824T144614Z
LAST-MODIFIED:20200824T144614Z
UID:1503-1599384600-1599388200@seeyouonsunday.org
SUMMARY:Worship in the parking lot (weather permitting) & Holy Communion
DESCRIPTION:Feel free to bring your own Communion elements of a bread product and beverage or take a disposable Fellowship Cup that will be available as you arrive.
URL:https://seeyouonsunday.org/event/worship-in-the-parking-lot-weather-permitting-holy-communion/
END:VEVENT
BEGIN:VEVENT
DTSTART;TZID=America/Chicago:20200907T093000
DTEND;TZID=America/Chicago:20200907T103000
DTSTAMP:20260421T033209
CREATED:20200831T141228Z
LAST-MODIFIED:20200831T141228Z
UID:1533-1599471000-1599474600@seeyouonsunday.org
SUMMARY:Sunday School Rally Day!
DESCRIPTION:Fun & games for the kids for the kick-off to Sunday School! All activities will be socially safe!
URL:https://seeyouonsunday.org/event/sunday-school-rally-day/
END:VEVENT
BEGIN:VEVENT
DTSTART;TZID=America/Chicago:20200908T100000
DTEND;TZID=America/Chicago:20200908T110000
DTSTAMP:20260421T033209
CREATED:20200824T145156Z
LAST-MODIFIED:20200824T145156Z
UID:1509-1599559200-1599562800@seeyouonsunday.org
SUMMARY:Bible Study on the patio
DESCRIPTION:
URL:https://seeyouonsunday.org/event/bible-study-on-the-patio-2/
END:VEVENT
BEGIN:VEVENT
DTSTART;TZID=America/Chicago:20200909T190000
DTEND;TZID=America/Chicago:20200909T203000
DTSTAMP:20260421T033209
CREATED:20200825T164630Z
LAST-MODIFIED:20200825T164630Z
UID:1529-1599678000-1599683400@seeyouonsunday.org
SUMMARY:Zoom Book Study
DESCRIPTION:
URL:https://seeyouonsunday.org/event/zoom-book-study-2/
END:VEVENT
BEGIN:VEVENT
DTSTART;TZID=America/Chicago:20200913T093000
DTEND;TZID=America/Chicago:20200913T103000
DTSTAMP:20260421T033209
CREATED:20200824T144709Z
LAST-MODIFIED:20200824T144709Z
UID:1504-1599989400-1599993000@seeyouonsunday.org
SUMMARY:Worship in the parking lot (weather permitting)
DESCRIPTION:
URL:https://seeyouonsunday.org/event/worship-in-the-parking-lot-weather-permitting/
END:VEVENT
BEGIN:VEVENT
DTSTART;TZID=America/Chicago:20200913T093000
DTEND;TZID=America/Chicago:20200913T103000
DTSTAMP:20260421T033209
CREATED:20200909T124959Z
LAST-MODIFIED:20200909T124959Z
UID:1536-1599989400-1599993000@seeyouonsunday.org
SUMMARY:Sunday School Rally Day
DESCRIPTION:
URL:https://seeyouonsunday.org/event/sunday-school-rally-day-2/
END:VEVENT
BEGIN:VEVENT
DTSTART;TZID=America/Chicago:20200915T100000
DTEND;TZID=America/Chicago:20200915T110000
DTSTAMP:20260421T033209
CREATED:20200824T145230Z
LAST-MODIFIED:20200824T145230Z
UID:1510-1600164000-1600167600@seeyouonsunday.org
SUMMARY:Bible Study on the patio
DESCRIPTION:
URL:https://seeyouonsunday.org/event/bible-study-on-the-patio-3/
END:VEVENT
BEGIN:VEVENT
DTSTART;TZID=America/Chicago:20200916T190000
DTEND;TZID=America/Chicago:20200916T203000
DTSTAMP:20260421T033209
CREATED:20200825T164708Z
LAST-MODIFIED:20200825T164708Z
UID:1530-1600282800-1600288200@seeyouonsunday.org
SUMMARY:Zoom Book Study
DESCRIPTION:
URL:https://seeyouonsunday.org/event/zoom-book-study-3/
END:VEVENT
BEGIN:VEVENT
DTSTART;TZID=America/Chicago:20200920T093000
DTEND;TZID=America/Chicago:20200920T103000
DTSTAMP:20260421T033209
CREATED:20200824T144746Z
LAST-MODIFIED:20200824T144746Z
UID:1505-1600594200-1600597800@seeyouonsunday.org
SUMMARY:Worship in the parking lot (weather permitting)
DESCRIPTION:
URL:https://seeyouonsunday.org/event/worship-in-the-parking-lot-weather-permitting-2/
END:VEVENT
BEGIN:VEVENT
DTSTART;TZID=America/Chicago:20200922T100000
DTEND;TZID=America/Chicago:20200922T110000
DTSTAMP:20260421T033209
CREATED:20200824T145303Z
LAST-MODIFIED:20200824T145303Z
UID:1511-1600768800-1600772400@seeyouonsunday.org
SUMMARY:Bible Study on the patio
DESCRIPTION:
URL:https://seeyouonsunday.org/event/bible-study-on-the-patio-4/
END:VEVENT
BEGIN:VEVENT
DTSTART;TZID=America/Chicago:20200923T190000
DTEND;TZID=America/Chicago:20200923T203000
DTSTAMP:20260421T033209
CREATED:20200825T164744Z
LAST-MODIFIED:20200825T164744Z
UID:1531-1600887600-1600893000@seeyouonsunday.org
SUMMARY:Zoom Book Study
DESCRIPTION:
URL:https://seeyouonsunday.org/event/zoom-book-study-4/
END:VEVENT
BEGIN:VEVENT
DTSTART;TZID=America/Chicago:20200927T093000
DTEND;TZID=America/Chicago:20200927T103000
DTSTAMP:20260421T033209
CREATED:20200824T144830Z
LAST-MODIFIED:20200824T144830Z
UID:1506-1601199000-1601202600@seeyouonsunday.org
SUMMARY:Worship in the parking lot (weather permitting)
DESCRIPTION:
URL:https://seeyouonsunday.org/event/worship-in-the-parking-lot-weather-permitting-3/
END:VEVENT
BEGIN:VEVENT
DTSTART;TZID=America/Chicago:20200929T100000
DTEND;TZID=America/Chicago:20200929T110000
DTSTAMP:20260421T033209
CREATED:20200824T145338Z
LAST-MODIFIED:20200824T145338Z
UID:1512-1601373600-1601377200@seeyouonsunday.org
SUMMARY:Bible Study on the patio
DESCRIPTION:
URL:https://seeyouonsunday.org/event/bible-study-on-the-patio-5/
END:VEVENT
END:VCALENDAR