BEGIN:VCALENDAR
VERSION:2.0
PRODID:-//Emmanuel UCC - ECPv6.6.4.2//NONSGML v1.0//EN
CALSCALE:GREGORIAN
METHOD:PUBLISH
X-WR-CALNAME:Emmanuel UCC
X-ORIGINAL-URL:https://seeyouonsunday.org
X-WR-CALDESC:Events for Emmanuel UCC
REFRESH-INTERVAL;VALUE=DURATION:PT1H
X-Robots-Tag:noindex
X-PUBLISHED-TTL:PT1H
BEGIN:VTIMEZONE
TZID:America/Chicago
BEGIN:DAYLIGHT
TZOFFSETFROM:-0600
TZOFFSETTO:-0500
TZNAME:CDT
DTSTART:20250309T080000
END:DAYLIGHT
BEGIN:STANDARD
TZOFFSETFROM:-0500
TZOFFSETTO:-0600
TZNAME:CST
DTSTART:20251102T070000
END:STANDARD
BEGIN:DAYLIGHT
TZOFFSETFROM:-0600
TZOFFSETTO:-0500
TZNAME:CDT
DTSTART:20260308T080000
END:DAYLIGHT
BEGIN:STANDARD
TZOFFSETFROM:-0500
TZOFFSETTO:-0600
TZNAME:CST
DTSTART:20261101T070000
END:STANDARD
END:VTIMEZONE
BEGIN:VEVENT
DTSTART;TZID=America/Chicago:20251223T100000
DTEND;TZID=America/Chicago:20251223T110000
DTSTAMP:20260423T084455
CREATED:20251126T151432Z
LAST-MODIFIED:20251126T151432Z
UID:3150-1766484000-1766487600@seeyouonsunday.org
SUMMARY:Bible Study
DESCRIPTION:
URL:https://seeyouonsunday.org/event/bible-study-223/
END:VEVENT
BEGIN:VEVENT
DTSTART;TZID=America/Chicago:20251224T170000
DTEND;TZID=America/Chicago:20251224T180000
DTSTAMP:20260423T084455
CREATED:20251126T152347Z
LAST-MODIFIED:20251126T152347Z
UID:3174-1766595600-1766599200@seeyouonsunday.org
SUMMARY:Christmas Eve Worship
DESCRIPTION:
URL:https://seeyouonsunday.org/event/christmas-eve-worship-2/
END:VEVENT
BEGIN:VEVENT
DTSTART;TZID=America/Chicago:20251230T100000
DTEND;TZID=America/Chicago:20251230T110000
DTSTAMP:20260423T084455
CREATED:20251126T151510Z
LAST-MODIFIED:20251126T151510Z
UID:3152-1767088800-1767092400@seeyouonsunday.org
SUMMARY:Bible Study
DESCRIPTION:
URL:https://seeyouonsunday.org/event/bible-study-224/
END:VEVENT
BEGIN:VEVENT
DTSTART;TZID=America/Chicago:20260106T100000
DTEND;TZID=America/Chicago:20260106T110000
DTSTAMP:20260423T084455
CREATED:20251231T173948Z
LAST-MODIFIED:20251231T173948Z
UID:3186-1767693600-1767697200@seeyouonsunday.org
SUMMARY:Bible Study
DESCRIPTION:
URL:https://seeyouonsunday.org/event/bible-study-226/
END:VEVENT
BEGIN:VEVENT
DTSTART;TZID=America/Chicago:20260106T180000
DTEND;TZID=America/Chicago:20260106T190000
DTSTAMP:20260423T084455
CREATED:20251231T174218Z
LAST-MODIFIED:20251231T174218Z
UID:3194-1767722400-1767726000@seeyouonsunday.org
SUMMARY:Bible Study
DESCRIPTION:
URL:https://seeyouonsunday.org/event/bible-study-230/
END:VEVENT
BEGIN:VEVENT
DTSTART;TZID=America/Chicago:20260107T183000
DTEND;TZID=America/Chicago:20260107T200000
DTSTAMP:20260423T084455
CREATED:20251231T174305Z
LAST-MODIFIED:20251231T174305Z
UID:3196-1767810600-1767816000@seeyouonsunday.org
SUMMARY:PFLAG meeting at Emmanuel
DESCRIPTION:
URL:https://seeyouonsunday.org/event/pflag-meeting-at-emmanuel/
END:VEVENT
BEGIN:VEVENT
DTSTART;TZID=America/Chicago:20260111T103000
DTEND;TZID=America/Chicago:20260111T113000
DTSTAMP:20260423T084455
CREATED:20251231T174346Z
LAST-MODIFIED:20251231T174346Z
UID:3198-1768127400-1768131000@seeyouonsunday.org
SUMMARY:Coffee Hour
DESCRIPTION:
URL:https://seeyouonsunday.org/event/coffee-hour-22/
END:VEVENT
BEGIN:VEVENT
DTSTART;TZID=America/Chicago:20260113T100000
DTEND;TZID=America/Chicago:20260113T110000
DTSTAMP:20260423T084455
CREATED:20251231T174027Z
LAST-MODIFIED:20251231T174027Z
UID:3188-1768298400-1768302000@seeyouonsunday.org
SUMMARY:Bible Study
DESCRIPTION:
URL:https://seeyouonsunday.org/event/bible-study-227/
END:VEVENT
BEGIN:VEVENT
DTSTART;TZID=America/Chicago:20260113T130000
DTEND;TZID=America/Chicago:20260113T150000
DTSTAMP:20260423T084455
CREATED:20251231T174433Z
LAST-MODIFIED:20251231T174433Z
UID:3200-1768309200-1768316400@seeyouonsunday.org
SUMMARY:Ladies Fellowship gathering
DESCRIPTION:
URL:https://seeyouonsunday.org/event/ladies-fellowship-gathering/
END:VEVENT
BEGIN:VEVENT
DTSTART;VALUE=DATE:20260115
DTEND;VALUE=DATE:20260116
DTSTAMP:20260423T084455
CREATED:20251231T174502Z
LAST-MODIFIED:20251231T174502Z
UID:3202-1768435200-1768521599@seeyouonsunday.org
SUMMARY:Newsletter Deadline
DESCRIPTION:
URL:https://seeyouonsunday.org/event/newsletter-deadline-19/
END:VEVENT
BEGIN:VEVENT
DTSTART;TZID=America/Chicago:20260118T103000
DTEND;TZID=America/Chicago:20260118T120000
DTSTAMP:20260423T084456
CREATED:20251231T174541Z
LAST-MODIFIED:20251231T174541Z
UID:3204-1768732200-1768737600@seeyouonsunday.org
SUMMARY:Council meeting
DESCRIPTION:
URL:https://seeyouonsunday.org/event/council-meeting-44/
END:VEVENT
BEGIN:VEVENT
DTSTART;TZID=America/Chicago:20260120T100000
DTEND;TZID=America/Chicago:20260120T110000
DTSTAMP:20260423T084456
CREATED:20251231T174105Z
LAST-MODIFIED:20251231T174105Z
UID:3190-1768903200-1768906800@seeyouonsunday.org
SUMMARY:Bible Study
DESCRIPTION:
URL:https://seeyouonsunday.org/event/bible-study-228/
END:VEVENT
BEGIN:VEVENT
DTSTART;TZID=America/Chicago:20260120T180000
DTEND;TZID=America/Chicago:20260120T190000
DTSTAMP:20260423T084456
CREATED:20251231T174615Z
LAST-MODIFIED:20251231T174615Z
UID:3206-1768932000-1768935600@seeyouonsunday.org
SUMMARY:Bible Study
DESCRIPTION:
URL:https://seeyouonsunday.org/event/bible-study-231/
END:VEVENT
BEGIN:VEVENT
DTSTART;TZID=America/Chicago:20260125T103000
DTEND;TZID=America/Chicago:20260125T113000
DTSTAMP:20260423T084456
CREATED:20251231T174659Z
LAST-MODIFIED:20251231T174659Z
UID:3208-1769337000-1769340600@seeyouonsunday.org
SUMMARY:Annual Meeting of the Congregation
DESCRIPTION:
URL:https://seeyouonsunday.org/event/annual-meeting-of-the-congregation-4/
END:VEVENT
BEGIN:VEVENT
DTSTART;TZID=America/Chicago:20260127T100000
DTEND;TZID=America/Chicago:20260127T110000
DTSTAMP:20260423T084456
CREATED:20251231T174139Z
LAST-MODIFIED:20251231T174139Z
UID:3192-1769508000-1769511600@seeyouonsunday.org
SUMMARY:Bible Study
DESCRIPTION:
URL:https://seeyouonsunday.org/event/bible-study-229/
END:VEVENT
BEGIN:VEVENT
DTSTART;TZID=America/Chicago:20260201T160000
DTEND;TZID=America/Chicago:20260201T180000
DTSTAMP:20260423T084456
CREATED:20260129T144933Z
LAST-MODIFIED:20260129T144933Z
UID:3226-1769961600-1769968800@seeyouonsunday.org
SUMMARY:Game Day
DESCRIPTION:
URL:https://seeyouonsunday.org/event/game-day-3/
END:VEVENT
BEGIN:VEVENT
DTSTART;TZID=America/Chicago:20260203T100000
DTEND;TZID=America/Chicago:20260203T110000
DTSTAMP:20260423T084456
CREATED:20260129T145049Z
LAST-MODIFIED:20260129T145049Z
UID:3228-1770112800-1770116400@seeyouonsunday.org
SUMMARY:Bible Study
DESCRIPTION:
URL:https://seeyouonsunday.org/event/bible-study-232/
END:VEVENT
BEGIN:VEVENT
DTSTART;TZID=America/Chicago:20260203T180000
DTEND;TZID=America/Chicago:20260203T190000
DTSTAMP:20260423T084456
CREATED:20260129T145134Z
LAST-MODIFIED:20260129T145134Z
UID:3230-1770141600-1770145200@seeyouonsunday.org
SUMMARY:Bible Study
DESCRIPTION:
URL:https://seeyouonsunday.org/event/bible-study-233/
END:VEVENT
BEGIN:VEVENT
DTSTART;TZID=America/Chicago:20260204T183000
DTEND;TZID=America/Chicago:20260204T203000
DTSTAMP:20260423T084456
CREATED:20260129T145525Z
LAST-MODIFIED:20260129T145525Z
UID:3240-1770229800-1770237000@seeyouonsunday.org
SUMMARY:PFLAG meets at Emmanuel
DESCRIPTION:
URL:https://seeyouonsunday.org/event/pflag-meets-at-emmanuel/
END:VEVENT
BEGIN:VEVENT
DTSTART;TZID=America/Chicago:20260208T093000
DTEND;TZID=America/Chicago:20260208T103000
DTSTAMP:20260423T084456
CREATED:20260129T145834Z
LAST-MODIFIED:20260129T145834Z
UID:3246-1770543000-1770546600@seeyouonsunday.org
SUMMARY:Souper Bowl Sunday
DESCRIPTION:Bring donations for the Kettle Moraine Food Pantry.
URL:https://seeyouonsunday.org/event/souper-bowl-sunday-5/
END:VEVENT
BEGIN:VEVENT
DTSTART;TZID=America/Chicago:20260208T103000
DTEND;TZID=America/Chicago:20260208T113000
DTSTAMP:20260423T084456
CREATED:20260129T145726Z
LAST-MODIFIED:20260129T145726Z
UID:3244-1770546600-1770550200@seeyouonsunday.org
SUMMARY:Coffee Hour
DESCRIPTION:
URL:https://seeyouonsunday.org/event/coffee-hour-23/
END:VEVENT
BEGIN:VEVENT
DTSTART;TZID=America/Chicago:20260210T100000
DTEND;TZID=America/Chicago:20260210T110000
DTSTAMP:20260423T084456
CREATED:20260129T145230Z
LAST-MODIFIED:20260129T145230Z
UID:3232-1770717600-1770721200@seeyouonsunday.org
SUMMARY:Bible Study
DESCRIPTION:
URL:https://seeyouonsunday.org/event/bible-study-234/
END:VEVENT
BEGIN:VEVENT
DTSTART;TZID=America/Chicago:20260210T130000
DTEND;TZID=America/Chicago:20260210T150000
DTSTAMP:20260423T084456
CREATED:20260129T145919Z
LAST-MODIFIED:20260129T145919Z
UID:3248-1770728400-1770735600@seeyouonsunday.org
SUMMARY:Ladies Fellowship social group meets
DESCRIPTION:
URL:https://seeyouonsunday.org/event/ladies-fellowship-social-group-meets/
END:VEVENT
BEGIN:VEVENT
DTSTART;VALUE=DATE:20260215
DTEND;VALUE=DATE:20260216
DTSTAMP:20260423T084456
CREATED:20260129T150150Z
LAST-MODIFIED:20260129T150150Z
UID:3254-1771113600-1771199999@seeyouonsunday.org
SUMMARY:Newsletter deadline
DESCRIPTION:
URL:https://seeyouonsunday.org/event/newsletter-deadline-20/
END:VEVENT
BEGIN:VEVENT
DTSTART;TZID=America/Chicago:20260215T093000
DTEND;TZID=America/Chicago:20260215T103000
DTSTAMP:20260423T084456
CREATED:20260129T150022Z
LAST-MODIFIED:20260129T150022Z
UID:3250-1771147800-1771151400@seeyouonsunday.org
SUMMARY:Guest Preacher Rachel Bauman from the WI Conference UCC
DESCRIPTION:
URL:https://seeyouonsunday.org/event/guest-preacher-rachel-bauman-from-the-wi-conference-ucc/
END:VEVENT
BEGIN:VEVENT
DTSTART;TZID=America/Chicago:20260215T103000
DTEND;TZID=America/Chicago:20260215T120000
DTSTAMP:20260423T084456
CREATED:20260129T150110Z
LAST-MODIFIED:20260129T150110Z
UID:3252-1771151400-1771156800@seeyouonsunday.org
SUMMARY:Council meeting
DESCRIPTION:
URL:https://seeyouonsunday.org/event/council-meeting-45/
END:VEVENT
BEGIN:VEVENT
DTSTART;TZID=America/Chicago:20260217T100000
DTEND;TZID=America/Chicago:20260217T110000
DTSTAMP:20260423T084456
CREATED:20260129T145309Z
LAST-MODIFIED:20260129T145309Z
UID:3234-1771322400-1771326000@seeyouonsunday.org
SUMMARY:Bible Study
DESCRIPTION:
URL:https://seeyouonsunday.org/event/bible-study-235/
END:VEVENT
BEGIN:VEVENT
DTSTART;TZID=America/Chicago:20260217T180000
DTEND;TZID=America/Chicago:20260217T190000
DTSTAMP:20260423T084456
CREATED:20260129T145350Z
LAST-MODIFIED:20260129T145350Z
UID:3236-1771351200-1771354800@seeyouonsunday.org
SUMMARY:Bible Study
DESCRIPTION:
URL:https://seeyouonsunday.org/event/bible-study-236/
END:VEVENT
BEGIN:VEVENT
DTSTART;TZID=America/Chicago:20260218T180000
DTEND;TZID=America/Chicago:20260218T190000
DTSTAMP:20260423T084456
CREATED:20260129T150258Z
LAST-MODIFIED:20260129T150258Z
UID:3256-1771437600-1771441200@seeyouonsunday.org
SUMMARY:Ash Wednesday Service or stop in during the day for a blessing & ashes
DESCRIPTION:
URL:https://seeyouonsunday.org/event/ash-wednesday-service-or-stop-in-during-the-day-for-a-blessing-ashes/
END:VEVENT
BEGIN:VEVENT
DTSTART;TZID=America/Chicago:20260219T130000
DTEND;TZID=America/Chicago:20260219T150000
DTSTAMP:20260423T084456
CREATED:20260129T150358Z
LAST-MODIFIED:20260129T150358Z
UID:3258-1771506000-1771513200@seeyouonsunday.org
SUMMARY:Lenten Soup & Book Study
DESCRIPTION:
URL:https://seeyouonsunday.org/event/lenten-soup-book-study/
END:VEVENT
END:VCALENDAR