BEGIN:VCALENDAR
VERSION:2.0
PRODID:-//Emmanuel UCC - ECPv6.6.4.2//NONSGML v1.0//EN
CALSCALE:GREGORIAN
METHOD:PUBLISH
X-ORIGINAL-URL:https://seeyouonsunday.org
X-WR-CALDESC:Events for Emmanuel UCC
REFRESH-INTERVAL;VALUE=DURATION:PT1H
X-Robots-Tag:noindex
X-PUBLISHED-TTL:PT1H
BEGIN:VTIMEZONE
TZID:America/Chicago
BEGIN:DAYLIGHT
TZOFFSETFROM:-0600
TZOFFSETTO:-0500
TZNAME:CDT
DTSTART:20200308T080000
END:DAYLIGHT
BEGIN:STANDARD
TZOFFSETFROM:-0500
TZOFFSETTO:-0600
TZNAME:CST
DTSTART:20201101T070000
END:STANDARD
END:VTIMEZONE
BEGIN:VEVENT
DTSTART;TZID=America/Chicago:20200126T093000
DTEND;TZID=America/Chicago:20200126T120000
DTSTAMP:20260422T043335
CREATED:20191230T171012Z
LAST-MODIFIED:20191230T171012Z
UID:1394-1580031000-1580040000@seeyouonsunday.org
SUMMARY:Pastor Nansi's Retirement Celebration
DESCRIPTION:
URL:https://seeyouonsunday.org/event/pastor-nansis-retirement-celebration/
END:VEVENT
BEGIN:VEVENT
DTSTART;TZID=America/Chicago:20200202T093000
DTEND;TZID=America/Chicago:20200202T103000
DTSTAMP:20260422T043335
CREATED:20200128T155646Z
LAST-MODIFIED:20200128T155646Z
UID:1403-1580635800-1580639400@seeyouonsunday.org
SUMMARY:Wake Up With God
DESCRIPTION:Kids come in their PJ’s or comfy clothing\, have breakfast and do fun activities.
URL:https://seeyouonsunday.org/event/wake-up-with-god-2/
END:VEVENT
BEGIN:VEVENT
DTSTART;TZID=America/Chicago:20200202T093000
DTEND;TZID=America/Chicago:20200202T103000
DTSTAMP:20260422T043335
CREATED:20200128T155743Z
LAST-MODIFIED:20200128T155743Z
UID:1404-1580635800-1580639400@seeyouonsunday.org
SUMMARY:Souper Bowl Sunday
DESCRIPTION:Bring donations for the Kettle Moraine Food Pantry and place them in the bin decorated for the Super Bowl team you’re rooting for!
URL:https://seeyouonsunday.org/event/souper-bowl-sunday-2/
END:VEVENT
BEGIN:VEVENT
DTSTART;TZID=America/Chicago:20200216T083000
DTEND;TZID=America/Chicago:20200216T092000
DTSTAMP:20260422T043335
CREATED:20200128T155840Z
LAST-MODIFIED:20200128T155840Z
UID:1405-1581841800-1581844800@seeyouonsunday.org
SUMMARY:Yoga Class
DESCRIPTION:Bring your own mat. Free-will donations are accepted but not required.
URL:https://seeyouonsunday.org/event/yoga-class/
END:VEVENT
BEGIN:VEVENT
DTSTART;TZID=America/Chicago:20200223T103000
DTEND;TZID=America/Chicago:20200223T113000
DTSTAMP:20260422T043335
CREATED:20200128T155917Z
LAST-MODIFIED:20200128T155956Z
UID:1406-1582453800-1582457400@seeyouonsunday.org
SUMMARY:Coffee Hour in fellowship hall
DESCRIPTION:
URL:https://seeyouonsunday.org/event/coffee-hour-in-fellowship-hall/
END:VEVENT
BEGIN:VEVENT
DTSTART;TZID=America/Chicago:20200301T093000
DTEND;TZID=America/Chicago:20200301T103000
DTSTAMP:20260422T043335
CREATED:20200224T143623Z
LAST-MODIFIED:20200224T143623Z
UID:1417-1583055000-1583058600@seeyouonsunday.org
SUMMARY:Imposition of Ashes Service
DESCRIPTION:Marking the start of Lent.
URL:https://seeyouonsunday.org/event/imposition-of-ashes-service/
END:VEVENT
BEGIN:VEVENT
DTSTART;TZID=America/Chicago:20200302T133000
DTEND;TZID=America/Chicago:20200302T173000
DTSTAMP:20260422T043335
CREATED:20200224T143813Z
LAST-MODIFIED:20200224T143813Z
UID:1418-1583155800-1583170200@seeyouonsunday.org
SUMMARY:Blood Drive
DESCRIPTION:in Fellowship Hall. Make an appointment online http://bit.ly/euccmar2020 or call the church office (mornings) 262-965-4022.
URL:https://seeyouonsunday.org/event/blood-drive-2/
END:VEVENT
BEGIN:VEVENT
DTSTART;VALUE=DATE:20200410
DTEND;VALUE=DATE:20200411
DTSTAMP:20260422T043335
CREATED:20200410T142022Z
LAST-MODIFIED:20200410T142022Z
UID:1431-1586476800-1586563199@seeyouonsunday.org
SUMMARY:Good Friday Virtual Worship
DESCRIPTION:Available on Facebook and Youtube.
URL:https://seeyouonsunday.org/event/good-friday-virtual-worship/
END:VEVENT
BEGIN:VEVENT
DTSTART;VALUE=DATE:20200412
DTEND;VALUE=DATE:20200413
DTSTAMP:20260422T043335
CREATED:20200410T142058Z
LAST-MODIFIED:20200410T142058Z
UID:1432-1586649600-1586735999@seeyouonsunday.org
SUMMARY:Easter Sunday Virtual Worship
DESCRIPTION:
URL:https://seeyouonsunday.org/event/easter-sunday-virtual-worship/
END:VEVENT
BEGIN:VEVENT
DTSTART;TZID=America/Chicago:20200426T093000
DTEND;TZID=America/Chicago:20200426T100000
DTSTAMP:20260422T043335
CREATED:20200422T144514Z
LAST-MODIFIED:20200422T144514Z
UID:1443-1587893400-1587895200@seeyouonsunday.org
SUMMARY:Virtual Worship on Facebook & YouTube
DESCRIPTION:
URL:https://seeyouonsunday.org/event/virtual-worship-on-facebook-youtube/
END:VEVENT
BEGIN:VEVENT
DTSTART;TZID=America/Chicago:20200503T093000
DTEND;TZID=America/Chicago:20200503T100000
DTSTAMP:20260422T043335
CREATED:20200422T144557Z
LAST-MODIFIED:20200422T144557Z
UID:1444-1588498200-1588500000@seeyouonsunday.org
SUMMARY:Virtual Worship on Facebook & YouTube
DESCRIPTION:
URL:https://seeyouonsunday.org/event/virtual-worship-on-facebook-youtube-2/
END:VEVENT
BEGIN:VEVENT
DTSTART;TZID=America/Chicago:20200510T093000
DTEND;TZID=America/Chicago:20200510T100000
DTSTAMP:20260422T043335
CREATED:20200422T144636Z
LAST-MODIFIED:20200422T144636Z
UID:1445-1589103000-1589104800@seeyouonsunday.org
SUMMARY:Virtual Worship on Facebook & YouTube
DESCRIPTION:
URL:https://seeyouonsunday.org/event/virtual-worship-on-facebook-youtube-3/
END:VEVENT
BEGIN:VEVENT
DTSTART;TZID=America/Chicago:20200517T093000
DTEND;TZID=America/Chicago:20200517T100000
DTSTAMP:20260422T043335
CREATED:20200422T144716Z
LAST-MODIFIED:20200422T144716Z
UID:1446-1589707800-1589709600@seeyouonsunday.org
SUMMARY:Virtual Worship on Facebook & YouTube
DESCRIPTION:
URL:https://seeyouonsunday.org/event/virtual-worship-on-facebook-youtube-4/
END:VEVENT
BEGIN:VEVENT
DTSTART;TZID=America/Chicago:20200524T093000
DTEND;TZID=America/Chicago:20200524T100000
DTSTAMP:20260422T043335
CREATED:20200422T144749Z
LAST-MODIFIED:20200422T144749Z
UID:1447-1590312600-1590314400@seeyouonsunday.org
SUMMARY:Virtual Worship on Facebook & YouTube
DESCRIPTION:
URL:https://seeyouonsunday.org/event/virtual-worship-on-facebook-youtube-5/
END:VEVENT
BEGIN:VEVENT
DTSTART;TZID=America/Chicago:20200712T093000
DTEND;TZID=America/Chicago:20200712T103000
DTSTAMP:20260422T043335
CREATED:20200629T153702Z
LAST-MODIFIED:20200629T153702Z
UID:1473-1594546200-1594549800@seeyouonsunday.org
SUMMARY:Outdoor Worship (weather permitting)
DESCRIPTION:Bring a lawn chair and umbrella for shade. Face masks are required.
URL:https://seeyouonsunday.org/event/outdoor-worship-weather-permitting/
END:VEVENT
BEGIN:VEVENT
DTSTART;TZID=America/Chicago:20200712T103000
DTEND;TZID=America/Chicago:20200712T120000
DTSTAMP:20260422T043335
CREATED:20200629T153952Z
LAST-MODIFIED:20200629T153952Z
UID:1476-1594549800-1594555200@seeyouonsunday.org
SUMMARY:Council meeting in fellowship hall after Worship
DESCRIPTION:
URL:https://seeyouonsunday.org/event/council-meeting-in-fellowship-hall-after-worship/
END:VEVENT
BEGIN:VEVENT
DTSTART;TZID=America/Chicago:20200719T093000
DTEND;TZID=America/Chicago:20200719T103000
DTSTAMP:20260422T043335
CREATED:20200629T153809Z
LAST-MODIFIED:20200629T153809Z
UID:1474-1595151000-1595154600@seeyouonsunday.org
SUMMARY:Outdoor Worship (weather permitting)
DESCRIPTION:Bring lawn chairs and umbrellas for shade. Face masks are required.
URL:https://seeyouonsunday.org/event/outdoor-worship-weather-permitting-2/
END:VEVENT
BEGIN:VEVENT
DTSTART;TZID=America/Chicago:20200726T093000
DTEND;TZID=America/Chicago:20200726T103000
DTSTAMP:20260422T043335
CREATED:20200629T153908Z
LAST-MODIFIED:20200629T153908Z
UID:1475-1595755800-1595759400@seeyouonsunday.org
SUMMARY:Outdoor Worship (weather permitting)
DESCRIPTION:Bring lawn chairs & umbrellas for shade. Face masks are required.
URL:https://seeyouonsunday.org/event/outdoor-worship-weather-permitting-3/
END:VEVENT
BEGIN:VEVENT
DTSTART;TZID=America/Chicago:20200802T093000
DTEND;TZID=America/Chicago:20200802T103000
DTSTAMP:20260422T043336
CREATED:20200721T163542Z
LAST-MODIFIED:20200721T163542Z
UID:1483-1596360600-1596364200@seeyouonsunday.org
SUMMARY:Parking Lot Worship (weather permitting)
DESCRIPTION:
URL:https://seeyouonsunday.org/event/parking-lot-worship-weather-permitting/
END:VEVENT
BEGIN:VEVENT
DTSTART;TZID=America/Chicago:20200809T093000
DTEND;TZID=America/Chicago:20200809T103000
DTSTAMP:20260422T043336
CREATED:20200721T163627Z
LAST-MODIFIED:20200721T163627Z
UID:1484-1596965400-1596969000@seeyouonsunday.org
SUMMARY:Parking Lot Worship (weather permitting)
DESCRIPTION:
URL:https://seeyouonsunday.org/event/parking-lot-worship-weather-permitting-2/
END:VEVENT
BEGIN:VEVENT
DTSTART;TZID=America/Chicago:20200811T100000
DTEND;TZID=America/Chicago:20200811T110000
DTSTAMP:20260422T043336
CREATED:20200721T163909Z
LAST-MODIFIED:20200721T163909Z
UID:1488-1597140000-1597143600@seeyouonsunday.org
SUMMARY:Bible Study
DESCRIPTION:
URL:https://seeyouonsunday.org/event/bible-study-2/
END:VEVENT
BEGIN:VEVENT
DTSTART;TZID=America/Chicago:20200816T093000
DTEND;TZID=America/Chicago:20200816T103000
DTSTAMP:20260422T043336
CREATED:20200721T163710Z
LAST-MODIFIED:20200721T163710Z
UID:1485-1597570200-1597573800@seeyouonsunday.org
SUMMARY:Parking Lot Worship (weather permitting)
DESCRIPTION:
URL:https://seeyouonsunday.org/event/parking-lot-worship-weather-permitting-3/
END:VEVENT
BEGIN:VEVENT
DTSTART;TZID=America/Chicago:20200818T100000
DTEND;TZID=America/Chicago:20200818T110000
DTSTAMP:20260422T043336
CREATED:20200721T163938Z
LAST-MODIFIED:20200721T163938Z
UID:1489-1597744800-1597748400@seeyouonsunday.org
SUMMARY:Bible Study
DESCRIPTION:
URL:https://seeyouonsunday.org/event/bible-study-3/
END:VEVENT
BEGIN:VEVENT
DTSTART;TZID=America/Chicago:20200819T190000
DTEND;TZID=America/Chicago:20200819T203000
DTSTAMP:20260422T043336
CREATED:20200721T164049Z
LAST-MODIFIED:20200721T164049Z
UID:1491-1597863600-1597869000@seeyouonsunday.org
SUMMARY:Book Study via Zoom
DESCRIPTION:
URL:https://seeyouonsunday.org/event/book-study-via-zoom/
END:VEVENT
BEGIN:VEVENT
DTSTART;TZID=America/Chicago:20200823T093000
DTEND;TZID=America/Chicago:20200823T103000
DTSTAMP:20260422T043336
CREATED:20200721T163749Z
LAST-MODIFIED:20200721T163749Z
UID:1486-1598175000-1598178600@seeyouonsunday.org
SUMMARY:Parking Lot Worship (weather permitting)
DESCRIPTION:
URL:https://seeyouonsunday.org/event/parking-lot-worship-weather-permitting-4/
END:VEVENT
BEGIN:VEVENT
DTSTART;TZID=America/Chicago:20200825T100000
DTEND;TZID=America/Chicago:20200825T110000
DTSTAMP:20260422T043336
CREATED:20200721T164011Z
LAST-MODIFIED:20200721T164011Z
UID:1490-1598349600-1598353200@seeyouonsunday.org
SUMMARY:Bible Study
DESCRIPTION:
URL:https://seeyouonsunday.org/event/bible-study-4/
END:VEVENT
BEGIN:VEVENT
DTSTART;TZID=America/Chicago:20200826T190000
DTEND;TZID=America/Chicago:20200826T203000
DTSTAMP:20260422T043336
CREATED:20200721T164124Z
LAST-MODIFIED:20200721T164124Z
UID:1492-1598468400-1598473800@seeyouonsunday.org
SUMMARY:Book Study via Zoom
DESCRIPTION:
URL:https://seeyouonsunday.org/event/book-study-via-zoom-2/
END:VEVENT
BEGIN:VEVENT
DTSTART;TZID=America/Chicago:20200830T093000
DTEND;TZID=America/Chicago:20200830T103000
DTSTAMP:20260422T043336
CREATED:20200721T163822Z
LAST-MODIFIED:20200721T163822Z
UID:1487-1598779800-1598783400@seeyouonsunday.org
SUMMARY:Parking Lot Worship (weather permitting)
DESCRIPTION:
URL:https://seeyouonsunday.org/event/parking-lot-worship-weather-permitting-5/
END:VEVENT
BEGIN:VEVENT
DTSTART;TZID=America/Chicago:20200830T103000
DTEND;TZID=America/Chicago:20200830T113000
DTSTAMP:20260422T043336
CREATED:20200824T144433Z
LAST-MODIFIED:20200824T144433Z
UID:1502-1598783400-1598787000@seeyouonsunday.org
SUMMARY:Lunch (or snack) and Chat!
DESCRIPTION:After worship on August 30th\, we’ll take our chairs to the shade and have some fellowship time together\, using safe distancing measures. Bring a snack or your lunch and a beverage and join us!
URL:https://seeyouonsunday.org/event/lunch-or-snack-and-chat/
END:VEVENT
BEGIN:VEVENT
DTSTART;TZID=America/Chicago:20200901T100000
DTEND;TZID=America/Chicago:20200901T110000
DTSTAMP:20260422T043336
CREATED:20200824T145123Z
LAST-MODIFIED:20200824T145123Z
UID:1508-1598954400-1598958000@seeyouonsunday.org
SUMMARY:Bible Study on the patio
DESCRIPTION:
URL:https://seeyouonsunday.org/event/bible-study-on-the-patio/
END:VEVENT
END:VCALENDAR