BEGIN:VCALENDAR
VERSION:2.0
PRODID:-//Emmanuel UCC - ECPv6.6.4.2//NONSGML v1.0//EN
CALSCALE:GREGORIAN
METHOD:PUBLISH
X-WR-CALNAME:Emmanuel UCC
X-ORIGINAL-URL:https://seeyouonsunday.org
X-WR-CALDESC:Events for Emmanuel UCC
REFRESH-INTERVAL;VALUE=DURATION:PT1H
X-Robots-Tag:noindex
X-PUBLISHED-TTL:PT1H
BEGIN:VTIMEZONE
TZID:America/Chicago
BEGIN:DAYLIGHT
TZOFFSETFROM:-0600
TZOFFSETTO:-0500
TZNAME:CDT
DTSTART:20200308T080000
END:DAYLIGHT
BEGIN:STANDARD
TZOFFSETFROM:-0500
TZOFFSETTO:-0600
TZNAME:CST
DTSTART:20201101T070000
END:STANDARD
END:VTIMEZONE
BEGIN:VEVENT
DTSTART;TZID=America/Chicago:20200920T093000
DTEND;TZID=America/Chicago:20200920T103000
DTSTAMP:20260423T051411
CREATED:20200824T144746Z
LAST-MODIFIED:20200824T144746Z
UID:1505-1600594200-1600597800@seeyouonsunday.org
SUMMARY:Worship in the parking lot (weather permitting)
DESCRIPTION:
URL:https://seeyouonsunday.org/event/worship-in-the-parking-lot-weather-permitting-2/
END:VEVENT
END:VCALENDAR